BEGIN:VCALENDAR
VERSION:2.0
PRODID:Feira das Flores e Sabores - 2026
X-WR-CALNAME:Feira das Flores e Sabores - 2026
X-WR-TIMEZONE:Europe/Lisbon
X-PUBLISHED-TTL:P1W
BEGIN:VTIMEZONE
TZID:Europe/Lisbon
X-LIC-LOCATION:Europe/Lisbon
END:VTIMEZONE
BEGIN:VEVENT
UID:69eb7d352053a
DTSTART;VALUE=DATE:20260502
SEQUENCE:0
TRANSP:OPAQUE
DTEND;VALUE=DATE:20260503
SUMMARY:Feira das Flores e Sabores - 2026
CLASS:PUBLIC
DESCRIPTION:Feira das Flores e Sabores - 2026
X-MICROSOFT-CDO-ALLDAYEVENT:TRUE
DTSTAMP:20260424T142453Z
END:VEVENT
END:VCALENDAR