BEGIN:VCALENDAR
VERSION:2.0
PRODID:Tradicionais Festas em Honra de Nossa Senhora da luz 2024
X-WR-CALNAME:Tradicionais Festas em Honra de Nossa Senhora da luz 2024
X-WR-TIMEZONE:Europe/Lisbon
X-PUBLISHED-TTL:P1W
BEGIN:VTIMEZONE
TZID:Europe/Lisbon
X-LIC-LOCATION:Europe/Lisbon
END:VTIMEZONE
BEGIN:VEVENT
UID:69e60653793c7
DTSTART;VALUE=DATE:20240830
SEQUENCE:0
TRANSP:OPAQUE
DTEND;VALUE=DATE:20240831
SUMMARY:Tradicionais Festas em Honra de Nossa Senhora da luz 2024
CLASS:PUBLIC
DESCRIPTION:Tradicionais Festas em Honra de Nossa Senhora da luz 2024
X-MICROSOFT-CDO-ALLDAYEVENT:TRUE
DTSTAMP:20260420T105619Z
END:VEVENT
END:VCALENDAR